BEGIN:VCALENDAR
VERSION:2.0
PRODID:-//DIOCESI DI ROMA - ECPv4.6.14.1//NONSGML v1.0//EN
CALSCALE:GREGORIAN
METHOD:PUBLISH
X-WR-CALNAME:DIOCESI DI ROMA
X-ORIGINAL-URL:https://www.diocesidiroma.it
X-WR-CALDESC:Eventi per DIOCESI DI ROMA
BEGIN:VEVENT
DTSTART;TZID=Europe/Rome:20260407T000000
DTEND;TZID=Europe/Rome:20260411T000000
DTSTAMP:20260421T042350
CREATED:20251001T124533Z
LAST-MODIFIED:20251001T124533Z
UID:37574-1775520000-1775865600@www.diocesidiroma.it
SUMMARY:Pellegrinaggio di fraternità per sacerdoti e diaconi della Diocesi di Roma
DESCRIPTION:Pellegrinaggio di fraternità per sacerdoti e diaconi della Diocesi di Roma dal 7 all’11 aprile (ORP) \n
URL:https://www.diocesidiroma.it/event/pellegrinaggio-di-fraternita-per-sacerdoti-e-diaconi-della-diocesi-di-roma/
CATEGORIES:Cammino Sinodale
END:VEVENT
END:VCALENDAR