BEGIN:VCALENDAR
VERSION:2.0
PRODID:-//DIOCESI DI ROMA - ECPv4.6.14.1//NONSGML v1.0//EN
CALSCALE:GREGORIAN
METHOD:PUBLISH
X-WR-CALNAME:DIOCESI DI ROMA
X-ORIGINAL-URL:https://www.diocesidiroma.it
X-WR-CALDESC:Eventi per DIOCESI DI ROMA
BEGIN:VEVENT
DTSTART;VALUE=DATE:20250829
DTEND;VALUE=DATE:20250902
DTSTAMP:20260422T175320
CREATED:20250910T102049Z
LAST-MODIFIED:20250910T102049Z
UID:36817-1756425600-1756771199@www.diocesidiroma.it
SUMMARY:Pellegrinaggio Diocesano a Lourdes 29 agosto-1 settembre (ORP)
DESCRIPTION:Pellegrinaggio Diocesano a Lourdes 29 agosto-1 settembre (ORP) \n
URL:https://www.diocesidiroma.it/event/pellegrinaggio-diocesano-a-lourdes-29-agosto-1-settembre-orp/
CATEGORIES:In Diocesi
END:VEVENT
END:VCALENDAR