BEGIN:VCALENDAR
VERSION:2.0
PRODID:-//DIOCESI DI ROMA - ECPv4.6.14.1//NONSGML v1.0//EN
CALSCALE:GREGORIAN
METHOD:PUBLISH
X-WR-CALNAME:DIOCESI DI ROMA
X-ORIGINAL-URL:https://www.diocesidiroma.it
X-WR-CALDESC:Eventi per DIOCESI DI ROMA
BEGIN:VEVENT
DTSTART;VALUE=DATE:20260828
DTEND;VALUE=DATE:20260829
DTSTAMP:20260423T182525
CREATED:20251215T105128Z
LAST-MODIFIED:20251215T105128Z
UID:39132-1787875200-1787961599@www.diocesidiroma.it
SUMMARY:Pellegrinaggio Diocesano a Lourdes dal 28 al 31 agosto (ORP)
DESCRIPTION:Pellegrinaggio Diocesano a Lourdes dal 28 al 31 agosto (ORP) \n
URL:https://www.diocesidiroma.it/event/pellegrinaggio-diocesano-a-lourdes-dal-28-al-31-agosto-orp/
CATEGORIES:In Diocesi,Iniziative degli Uffici
END:VEVENT
END:VCALENDAR