BEGIN:VCALENDAR
VERSION:2.0
PRODID:-//DIOCESI DI ROMA - ECPv4.6.14.1//NONSGML v1.0//EN
CALSCALE:GREGORIAN
METHOD:PUBLISH
X-WR-CALNAME:DIOCESI DI ROMA
X-ORIGINAL-URL:https://www.diocesidiroma.it
X-WR-CALDESC:Eventi per DIOCESI DI ROMA
BEGIN:VEVENT
DTSTART;TZID=Europe/Rome:20190727T000000
DTEND;TZID=Europe/Rome:20190801T000000
DTSTAMP:20260422T062714
CREATED:20181023T140952Z
LAST-MODIFIED:20181023T140952Z
UID:5319-1564185600-1564617600@www.diocesidiroma.it
SUMMARY:Pellegrinaggio ed esperienza di servizio per i giovani dai 17 anni in Puglia sulle orme di don Tonino Bello
DESCRIPTION:Pellegrinaggio ed esperienza di servizio per i giovani dai 17 anni in Puglia sulle orme di don Tonino Bello\, a cura del Servizio per la pastorale giovanile. \n
URL:https://www.diocesidiroma.it/event/pellegrinaggio-ed-esperienza-di-servizio-per-i-giovani-dai-17-anni-in-puglia-sulle-orme-di-don-tonino-bello/
CATEGORIES:Iniziative degli Uffici
END:VEVENT
END:VCALENDAR