BEGIN:VCALENDAR
VERSION:2.0
PRODID:-//DIOCESI DI ROMA - ECPv4.6.14.1//NONSGML v1.0//EN
CALSCALE:GREGORIAN
METHOD:PUBLISH
X-WR-CALNAME:DIOCESI DI ROMA
X-ORIGINAL-URL:https://www.diocesidiroma.it
X-WR-CALDESC:Eventi per DIOCESI DI ROMA
BEGIN:VEVENT
DTSTART;VALUE=DATE:20250202
DTEND;VALUE=DATE:20250203
DTSTAMP:20260422T142439
CREATED:20250204T162405Z
LAST-MODIFIED:20250204T162922Z
UID:33680-1738454400-1738540799@www.diocesidiroma.it
SUMMARY:Pellegrinaggio Giubilare dei Consacrati e delle Consacrate
DESCRIPTION:Pellegrinaggio Giubilare dei Consacrati e delle Consacrate \nOre 15:00 Raduno dei partecipanti  nella Basilica di S. Croce in Gerusalemme. Verrà brevemente presentata la basilica \nsessoriana con le reliquie della Passione \nOre 15:45 Partenza del pellegrinaggio\, guidato da S.E. Mons. Michele Di Tolve\, verso la Porta Santa di San \nGiovanni in Laterano \nOre 16:15 Arrivo alla Porta Santa: liturgia giubilare e passaggio della Porta Santa \nOre 16:30 In Basilica: Vespri presieduti dal Cardinale Vicario Baldassare Reina \n
URL:https://www.diocesidiroma.it/event/pellegrinaggio-giubilare-dei-consacrati-e-delle-consacrate/
CATEGORIES:Iniziative Giubileo 25
END:VEVENT
END:VCALENDAR