BEGIN:VCALENDAR
VERSION:2.0
PRODID:-//DIOCESI DI ROMA - ECPv4.6.14.1//NONSGML v1.0//EN
CALSCALE:GREGORIAN
METHOD:PUBLISH
X-WR-CALNAME:DIOCESI DI ROMA
X-ORIGINAL-URL:https://www.diocesidiroma.it
X-WR-CALDESC:Eventi per DIOCESI DI ROMA
BEGIN:VEVENT
DTSTART;VALUE=DATE:20260531
DTEND;VALUE=DATE:20260601
DTSTAMP:20260421T025353
CREATED:20251030T112411Z
LAST-MODIFIED:20251030T112411Z
UID:38277-1780185600-1780271999@www.diocesidiroma.it
SUMMARY:Pellegrinaggio nazionale a Genazzano della Comunità Albanese presente in Italia per la Festa della Madonna del Buon Consiglio
DESCRIPTION:Pellegrinaggio nazionale a Genazzano della Comunità Albanese presente in Italia per la Festa della Madonna del Buon Consiglio (Uff. Migrantes per la pastorale della mobilità umana) \n
URL:https://www.diocesidiroma.it/event/pellegrinaggio-nazionale-a-genazzano-della-comunita-albanese-presente-in-italia-per-la-festa-della-madonna-del-buon-consiglio/
END:VEVENT
END:VCALENDAR