BEGIN:VCALENDAR
VERSION:2.0
PRODID:-//DIOCESI DI ROMA - ECPv4.6.14.1//NONSGML v1.0//EN
CALSCALE:GREGORIAN
METHOD:PUBLISH
X-WR-CALNAME:DIOCESI DI ROMA
X-ORIGINAL-URL:https://www.diocesidiroma.it
X-WR-CALDESC:Eventi per DIOCESI DI ROMA
BEGIN:VEVENT
DTSTART;VALUE=DATE:20171013
DTEND;VALUE=DATE:20171014
DTSTAMP:20260424T152911
CREATED:20171228T112941Z
LAST-MODIFIED:20171228T112941Z
UID:340-1507852800-1507939199@www.diocesidiroma.it
SUMMARY:Pellegrinaggio notturno dei neo-cresimati
DESCRIPTION:
URL:https://www.diocesidiroma.it/event/pellegrinaggio-notturno-dei-neo-cresimati/
CATEGORIES:Iniziative degli Uffici
END:VEVENT
END:VCALENDAR