BEGIN:VCALENDAR
VERSION:2.0
PRODID:-//DIOCESI DI ROMA - ECPv4.6.14.1//NONSGML v1.0//EN
CALSCALE:GREGORIAN
METHOD:PUBLISH
X-WR-CALNAME:DIOCESI DI ROMA
X-ORIGINAL-URL:https://www.diocesidiroma.it
X-WR-CALDESC:Eventi per DIOCESI DI ROMA
BEGIN:VEVENT
DTSTART;TZID=Europe/Rome:20240204T143000
DTEND;TZID=Europe/Rome:20240204T183000
DTSTAMP:20260422T175903
CREATED:20240122T120441Z
LAST-MODIFIED:20240122T120441Z
UID:28589-1707057000-1707071400@www.diocesidiroma.it
SUMMARY:Pellegrinaggio per i catecumeni e i loro catechisti - Basilica di San Pietro in Vaticano (Uff. catecumenato)
DESCRIPTION:Pellegrinaggio per i catecumeni e i loro catechisti – Basilica di San Pietro in Vaticano (Uff. catecumenato) \n
URL:https://www.diocesidiroma.it/event/pellegrinaggio-per-i-catecumeni-e-i-loro-catechisti-basilica-di-san-pietro-in-vaticano-uff-catecumenato/
CATEGORIES:Iniziative degli Uffici
END:VEVENT
END:VCALENDAR