BEGIN:VCALENDAR
VERSION:2.0
PRODID:-//DIOCESI DI ROMA - ECPv4.6.14.1//NONSGML v1.0//EN
CALSCALE:GREGORIAN
METHOD:PUBLISH
X-WR-CALNAME:DIOCESI DI ROMA
X-ORIGINAL-URL:https://www.diocesidiroma.it
X-WR-CALDESC:Eventi per DIOCESI DI ROMA
BEGIN:VEVENT
DTSTART;TZID=Europe/Rome:20200919T090000
DTEND;TZID=Europe/Rome:20200919T130000
DTSTAMP:20260425T041217
CREATED:20200917T071847Z
LAST-MODIFIED:20200917T071847Z
UID:11617-1600506000-1600520400@www.diocesidiroma.it
SUMMARY:Pellegrinaggio per i catecumeni sulle orme di san Paolo
DESCRIPTION:Pellegrinaggio per i catecumeni sulle orme di san Paolo\, a cura del Servizio per il Catecumenato. \n
URL:https://www.diocesidiroma.it/event/pellegrinaggio-per-i-catecumeni-sulle-orme-di-san-paolo/
CATEGORIES:Iniziative degli Uffici
END:VEVENT
END:VCALENDAR