BEGIN:VCALENDAR
VERSION:2.0
PRODID:-//DIOCESI DI ROMA - ECPv4.6.14.1//NONSGML v1.0//EN
CALSCALE:GREGORIAN
METHOD:PUBLISH
X-WR-CALNAME:DIOCESI DI ROMA
X-ORIGINAL-URL:https://www.diocesidiroma.it
X-WR-CALDESC:Eventi per DIOCESI DI ROMA
BEGIN:VEVENT
DTSTART;VALUE=DATE:20260523
DTEND;VALUE=DATE:20260525
DTSTAMP:20260421T031816
CREATED:20260302T100845Z
LAST-MODIFIED:20260302T100856Z
UID:40259-1779494400-1779667199@www.diocesidiroma.it
SUMMARY:Pellegrinaggio per i giovani a Loreto (Pastorale giovanile e Orp)
DESCRIPTION:Pellegrinaggio per i giovani a Loreto (Pastorale giovanile e Orp) \n
URL:https://www.diocesidiroma.it/event/pellegrinaggio-per-i-giovani-a-loreto-pastorale-giovanile-e-orp/
CATEGORIES:In Diocesi,Iniziative degli Uffici
END:VEVENT
END:VCALENDAR