BEGIN:VCALENDAR
VERSION:2.0
PRODID:-//DIOCESI DI ROMA - ECPv4.6.14.1//NONSGML v1.0//EN
CALSCALE:GREGORIAN
METHOD:PUBLISH
X-WR-CALNAME:DIOCESI DI ROMA
X-ORIGINAL-URL:https://www.diocesidiroma.it
X-WR-CALDESC:Eventi per DIOCESI DI ROMA
BEGIN:VEVENT
DTSTART;VALUE=DATE:20260727
DTEND;VALUE=DATE:20260803
DTSTAMP:20260421T044557
CREATED:20260302T101020Z
LAST-MODIFIED:20260302T101042Z
UID:40262-1785110400-1785715199@www.diocesidiroma.it
SUMMARY:Pellegrinaggio per i giovani a Santiago de Compostela (Pastorale giovanile e Orp)
DESCRIPTION:Pellegrinaggio per i giovani a Santiago de Compostela (Pastorale giovanile e Orp) \n
URL:https://www.diocesidiroma.it/event/pellegrinaggio-per-i-giovani-a-santiago-de-compostela-pastorale-giovanile-e-orp/
CATEGORIES:In Diocesi,Iniziative degli Uffici
END:VEVENT
END:VCALENDAR