BEGIN:VCALENDAR
VERSION:2.0
PRODID:-//DIOCESI DI ROMA - ECPv4.6.14.1//NONSGML v1.0//EN
CALSCALE:GREGORIAN
METHOD:PUBLISH
X-WR-CALNAME:DIOCESI DI ROMA
X-ORIGINAL-URL:https://www.diocesidiroma.it
X-WR-CALDESC:Eventi per DIOCESI DI ROMA
BEGIN:VEVENT
DTSTART;VALUE=DATE:20260411
DTEND;VALUE=DATE:20260412
DTSTAMP:20260421T121031
CREATED:20260302T100759Z
LAST-MODIFIED:20260302T100927Z
UID:40257-1775865600-1775951999@www.diocesidiroma.it
SUMMARY:Pellegrinaggio per i giovani ad Assisi (Pastorale giovanile e Orp)
DESCRIPTION:Pellegrinaggio per i giovani ad Assisi (Pastorale giovanile e Orp) \n
URL:https://www.diocesidiroma.it/event/pellegrinaggio-per-i-giovani-ad-assisi-pastorale-giovanile-e-cor/
CATEGORIES:In Diocesi,Iniziative degli Uffici
END:VEVENT
END:VCALENDAR