BEGIN:VCALENDAR
VERSION:2.0
PRODID:-//DIOCESI DI ROMA - ECPv4.6.14.1//NONSGML v1.0//EN
CALSCALE:GREGORIAN
METHOD:PUBLISH
X-WR-CALNAME:DIOCESI DI ROMA
X-ORIGINAL-URL:https://www.diocesidiroma.it
X-WR-CALDESC:Eventi per DIOCESI DI ROMA
BEGIN:VEVENT
DTSTART;VALUE=DATE:20260706
DTEND;VALUE=DATE:20260707
DTSTAMP:20260424T074501
CREATED:20251215T104123Z
LAST-MODIFIED:20251215T104123Z
UID:39124-1783296000-1783382399@www.diocesidiroma.it
SUMMARY:Pellegrinaggio per la formazione di animatori culturali attraverso la storia e l’arte a Perugia e Assisi dal 6 all'11 luglio (Uff. Cultura)
DESCRIPTION:Pellegrinaggio per la formazione di animatori culturali attraverso la storia e l’arte a Perugia e Assisi dal 6 all’11 luglio (Uff. Cultura) \n
URL:https://www.diocesidiroma.it/event/pellegrinaggio-per-la-formazione-di-animatori-culturali-attraverso-la-storia-e-larte-a-perugia-e-assisi-dal-6-all11-luglio-uff-cultura/
CATEGORIES:In Diocesi,Iniziative degli Uffici
END:VEVENT
END:VCALENDAR