BEGIN:VCALENDAR
VERSION:2.0
PRODID:-//DIOCESI DI ROMA - ECPv4.6.14.1//NONSGML v1.0//EN
CALSCALE:GREGORIAN
METHOD:PUBLISH
X-WR-CALNAME:DIOCESI DI ROMA
X-ORIGINAL-URL:https://www.diocesidiroma.it
X-WR-CALDESC:Eventi per DIOCESI DI ROMA
BEGIN:VEVENT
DTSTART;TZID=Europe/Rome:20200606T000000
DTEND;TZID=Europe/Rome:20200606T000000
DTSTAMP:20260422T041701
CREATED:20200219T090251Z
LAST-MODIFIED:20200219T090251Z
UID:10117-1591401600-1591401600@www.diocesidiroma.it
SUMMARY:Pellegrinaggio per le religiose a cura del Centro per la pastorale sanitaria
DESCRIPTION:Pellegrinaggio per le religiose a cura del Centro per la pastorale sanitaria. \n
URL:https://www.diocesidiroma.it/event/pellegrinaggio-per-le-religiose-a-cura-del-centro-per-la-pastorale-sanitaria/
CATEGORIES:Iniziative degli Uffici
END:VEVENT
END:VCALENDAR