BEGIN:VCALENDAR
VERSION:2.0
PRODID:-//DIOCESI DI ROMA - ECPv4.6.14.1//NONSGML v1.0//EN
CALSCALE:GREGORIAN
METHOD:PUBLISH
X-WR-CALNAME:DIOCESI DI ROMA
X-ORIGINAL-URL:https://www.diocesidiroma.it
X-WR-CALDESC:Eventi per DIOCESI DI ROMA
BEGIN:VEVENT
DTSTART;TZID=Europe/Rome:20260125T153000
DTEND;TZID=Europe/Rome:20260125T183000
DTSTAMP:20260422T101427
CREATED:20250911T092758Z
LAST-MODIFIED:20250911T092758Z
UID:37139-1769355000-1769365800@www.diocesidiroma.it
SUMMARY:Pellegrinaggio per tutti i catecumeni e i loro catechisti - Basilica di San Pietro  (Uff. per il Catecumenato)
DESCRIPTION:Pellegrinaggio per tutti i catecumeni e i loro catechisti – Basilica di San Pietro  (Uff. per il Catecumenato) \n
URL:https://www.diocesidiroma.it/event/pellegrinaggio-per-tutti-i-catecumeni-e-i-loro-catechisti-basilica-di-san-pietro-uff-per-il-catecumenato/
CATEGORIES:In Diocesi,Iniziative degli Uffici
END:VEVENT
END:VCALENDAR