BEGIN:VCALENDAR
VERSION:2.0
PRODID:-//DIOCESI DI ROMA - ECPv4.6.14.1//NONSGML v1.0//EN
CALSCALE:GREGORIAN
METHOD:PUBLISH
X-WR-CALNAME:DIOCESI DI ROMA
X-ORIGINAL-URL:https://www.diocesidiroma.it
X-WR-CALDESC:Eventi per DIOCESI DI ROMA
BEGIN:VEVENT
DTSTART;TZID=Europe/Rome:20200620T000000
DTEND;TZID=Europe/Rome:20200620T000000
DTSTAMP:20260422T183158
CREATED:20200219T091855Z
LAST-MODIFIED:20200219T091855Z
UID:10137-1592611200-1592611200@www.diocesidiroma.it
SUMMARY:Pellegrinaggio sui passi di san Paolo per i catecumeni del primo anno
DESCRIPTION:Pellegrinaggio sui passi di san Paolo per i catecumeni del primo anno\, a cura del Servizio per il catecumenato. \n
URL:https://www.diocesidiroma.it/event/pellegrinaggio-sui-passi-di-san-paolo-per-i-catecumeni-del-primo-anno/
CATEGORIES:Iniziative degli Uffici
END:VEVENT
END:VCALENDAR