BEGIN:VCALENDAR
VERSION:2.0
PRODID:-//DIOCESI DI ROMA - ECPv4.6.14.1//NONSGML v1.0//EN
CALSCALE:GREGORIAN
METHOD:PUBLISH
X-WR-CALNAME:DIOCESI DI ROMA
X-ORIGINAL-URL:https://www.diocesidiroma.it
X-WR-CALDESC:Eventi per DIOCESI DI ROMA
BEGIN:VEVENT
DTSTART;TZID=Europe/Rome:20190609T000000
DTEND;TZID=Europe/Rome:20190609T000000
DTSTAMP:20260424T140753
CREATED:20181023T133835Z
LAST-MODIFIED:20181023T133835Z
UID:5297-1560038400-1560038400@www.diocesidiroma.it
SUMMARY:Pentecoste
DESCRIPTION:Pentecoste \n
URL:https://www.diocesidiroma.it/event/pentecoste-2/
CATEGORIES:Ricorrenze
END:VEVENT
END:VCALENDAR