BEGIN:VCALENDAR
VERSION:2.0
PRODID:-//DIOCESI DI ROMA - ECPv4.6.14.1//NONSGML v1.0//EN
CALSCALE:GREGORIAN
METHOD:PUBLISH
X-WR-CALNAME:DIOCESI DI ROMA
X-ORIGINAL-URL:https://www.diocesidiroma.it
X-WR-CALDESC:Eventi per DIOCESI DI ROMA
BEGIN:VEVENT
DTSTART;TZID=Europe/Rome:20260324T130000
DTEND;TZID=Europe/Rome:20260324T130000
DTSTAMP:20260421T013523
CREATED:20260320T112232Z
LAST-MODIFIED:20260320T112232Z
UID:40628-1774357200-1774357200@www.diocesidiroma.it
SUMMARY:Pranzo con i dipendenti della casa Bonus Pastor
DESCRIPTION:Pranzo con i dipendenti della casa Bonus Pastor \n
URL:https://www.diocesidiroma.it/event/pranzo-con-i-dipendenti-della-casa-bonus-pastor/
CATEGORIES:Vicario Generale
END:VEVENT
END:VCALENDAR