BEGIN:VCALENDAR
VERSION:2.0
PRODID:-//DIOCESI DI ROMA - ECPv4.6.14.1//NONSGML v1.0//EN
CALSCALE:GREGORIAN
METHOD:PUBLISH
X-WR-CALNAME:DIOCESI DI ROMA
X-ORIGINAL-URL:https://www.diocesidiroma.it
X-WR-CALDESC:Eventi per DIOCESI DI ROMA
BEGIN:VEVENT
DTSTART;TZID=Europe/Rome:20181105T000000
DTEND;TZID=Europe/Rome:20181109T000000
DTSTAMP:20260421T121744
CREATED:20181105T075128Z
LAST-MODIFIED:20181105T075128Z
UID:5404-1541376000-1541721600@www.diocesidiroma.it
SUMMARY:Predica gli Esercizi spirituali presso la Casa Divin Maestro di Ariccia per i vescovi ausiliari\, i direttori degli Uffici\, i parroci prefetti e i rettori dei Seminari diocesani
DESCRIPTION:Predica gli Esercizi spirituali presso la Casa Divin Maestro di Ariccia per i vescovi ausiliari\, i direttori degli Uffici\, i parroci prefetti e i rettori dei Seminari diocesani. \n
URL:https://www.diocesidiroma.it/event/predica-gli-esercizi-spirituali-presso-la-casa-divin-maestro-di-ariccia-per-i-vescovi-ausiliari-i-direttori-degli-uffici-i-parroci-prefetti-e-i-rettori-dei-seminari-diocesani/
CATEGORIES:NON USARE --- Agenda del Vicario
END:VEVENT
END:VCALENDAR