BEGIN:VCALENDAR
VERSION:2.0
PRODID:-//DIOCESI DI ROMA - ECPv4.6.14.1//NONSGML v1.0//EN
CALSCALE:GREGORIAN
METHOD:PUBLISH
X-WR-CALNAME:DIOCESI DI ROMA
X-ORIGINAL-URL:https://www.diocesidiroma.it
X-WR-CALDESC:Eventi per DIOCESI DI ROMA
BEGIN:VEVENT
DTSTART;TZID=Europe/Rome:20260404T100000
DTEND;TZID=Europe/Rome:20260404T160000
DTSTAMP:20260421T070549
CREATED:20260330T060908Z
LAST-MODIFIED:20260330T060926Z
UID:40751-1775296800-1775318400@www.diocesidiroma.it
SUMMARY:Predica il ritiro spirituale per l’Istituzione Teresiana
DESCRIPTION:Predica il ritiro spirituale per l’Istituzione Teresiana  \n
URL:https://www.diocesidiroma.it/event/predica-il-ritiro-spirituale-per-listituzione-teresiana/
CATEGORIES:Vicario Generale
END:VEVENT
END:VCALENDAR