BEGIN:VCALENDAR
VERSION:2.0
PRODID:-//DIOCESI DI ROMA - ECPv4.6.14.1//NONSGML v1.0//EN
CALSCALE:GREGORIAN
METHOD:PUBLISH
X-WR-CALNAME:DIOCESI DI ROMA
X-ORIGINAL-URL:https://www.diocesidiroma.it
X-WR-CALDESC:Eventi per DIOCESI DI ROMA
BEGIN:VEVENT
DTSTART;TZID=Europe/Rome:20201011T000000
DTEND;TZID=Europe/Rome:20201011T000000
DTSTAMP:20260423T201414
CREATED:20200917T081005Z
LAST-MODIFIED:20200917T084001Z
UID:11659-1602374400-1602374400@www.diocesidiroma.it
SUMMARY:Preghiera per i malati
DESCRIPTION:Preghiera per i malati\, a cura del Centro per la pastorale sanitaria. \n
URL:https://www.diocesidiroma.it/event/preghiera-per-i-malati-a-santa-maria-della-consolazione/
CATEGORIES:Iniziative degli Uffici
END:VEVENT
END:VCALENDAR