BEGIN:VCALENDAR
VERSION:2.0
PRODID:-//DIOCESI DI ROMA - ECPv4.6.14.1//NONSGML v1.0//EN
CALSCALE:GREGORIAN
METHOD:PUBLISH
X-WR-CALNAME:DIOCESI DI ROMA
X-ORIGINAL-URL:https://www.diocesidiroma.it
X-WR-CALDESC:Eventi per DIOCESI DI ROMA
BEGIN:VEVENT
DTSTART;TZID=Europe/Rome:20191111T000000
DTEND;TZID=Europe/Rome:20191111T000000
DTSTAMP:20260422T193102
CREATED:20190917T090047Z
LAST-MODIFIED:20190917T090131Z
UID:8483-1573430400-1573430400@www.diocesidiroma.it
SUMMARY:Preghiera per i malati nella parrocchia di Nostra Signora di Czestochowa
DESCRIPTION:Preghiera per i malati nella parrocchia di Nostra Signora di Czestochowa\, a cura del Centro per la pastorale sanitaria. \n
URL:https://www.diocesidiroma.it/event/preghiera-per-i-malati-nella-parrocchia-di-nostra-signora-di-czestochowa/
CATEGORIES:Iniziative degli Uffici
END:VEVENT
END:VCALENDAR