BEGIN:VCALENDAR
VERSION:2.0
PRODID:-//DIOCESI DI ROMA - ECPv4.6.14.1//NONSGML v1.0//EN
CALSCALE:GREGORIAN
METHOD:PUBLISH
X-WR-CALNAME:DIOCESI DI ROMA
X-ORIGINAL-URL:https://www.diocesidiroma.it
X-WR-CALDESC:Eventi per DIOCESI DI ROMA
BEGIN:VEVENT
DTSTART;TZID=Europe/Rome:20201111T000000
DTEND;TZID=Europe/Rome:20201111T000000
DTSTAMP:20260425T114849
CREATED:20200923T155222Z
LAST-MODIFIED:20200923T155222Z
UID:11788-1605052800-1605052800@www.diocesidiroma.it
SUMMARY:Preghiera per i malati
DESCRIPTION:Preghiera per i malati a cura del Centro per la pastorale sanitaria. \n
URL:https://www.diocesidiroma.it/event/preghiera-per-i-malati/
CATEGORIES:Iniziative degli Uffici
END:VEVENT
END:VCALENDAR