BEGIN:VCALENDAR
VERSION:2.0
PRODID:-//DIOCESI DI ROMA - ECPv4.6.14.1//NONSGML v1.0//EN
CALSCALE:GREGORIAN
METHOD:PUBLISH
X-WR-CALNAME:DIOCESI DI ROMA
X-ORIGINAL-URL:https://www.diocesidiroma.it
X-WR-CALDESC:Eventi per DIOCESI DI ROMA
BEGIN:VEVENT
DTSTART;TZID=Europe/Rome:20191026T103000
DTEND;TZID=Europe/Rome:20191026T103000
DTSTAMP:20260422T145055
CREATED:20190917T081718Z
LAST-MODIFIED:20190917T081718Z
UID:8429-1572085800-1572085800@www.diocesidiroma.it
SUMMARY:Premio don Andrea Santoro\, a cura del Centro Missionario diocesano
DESCRIPTION:Premio don Andrea Santoro\, a cura del Centro Missionario diocesano\, in Vicariato. \n
URL:https://www.diocesidiroma.it/event/premio-don-andrea-santoro-a-cura-del-centro-missionario-diocesano/
CATEGORIES:In Diocesi
END:VEVENT
END:VCALENDAR