BEGIN:VCALENDAR
VERSION:2.0
PRODID:-//DIOCESI DI ROMA - ECPv4.6.14.1//NONSGML v1.0//EN
CALSCALE:GREGORIAN
METHOD:PUBLISH
X-WR-CALNAME:DIOCESI DI ROMA
X-ORIGINAL-URL:https://www.diocesidiroma.it
X-WR-CALDESC:Eventi per DIOCESI DI ROMA
BEGIN:VEVENT
DTSTART;TZID=Europe/Rome:20250311T183000
DTEND;TZID=Europe/Rome:20250311T183000
DTSTAMP:20260424T200344
CREATED:20250310T100201Z
LAST-MODIFIED:20250310T100201Z
UID:34378-1741717800-1741717800@www.diocesidiroma.it
SUMMARY:Presentazione del libro "La grazia è un incontro" di Adrien Candiard. L'evento si terrà presso la Libreria San Paolo\, situata in via della Conciliazione 16
DESCRIPTION:Presentazione del libro “La grazia è un incontro” di Adrien Candiard. L’evento si terrà presso la Libreria San Paolo\, situata in via della Conciliazione 16 \n
URL:https://www.diocesidiroma.it/event/presentazione-del-libro-la-grazia-e-un-incontro-di-adrien-candiard-levento-si-terra-presso-la-libreria-san-paolo-situata-in-via-della-conciliazione-16/
CATEGORIES:Vicario Generale
END:VEVENT
END:VCALENDAR