BEGIN:VCALENDAR
VERSION:2.0
PRODID:-//DIOCESI DI ROMA - ECPv4.6.14.1//NONSGML v1.0//EN
CALSCALE:GREGORIAN
METHOD:PUBLISH
X-WR-CALNAME:DIOCESI DI ROMA
X-ORIGINAL-URL:https://www.diocesidiroma.it
X-WR-CALDESC:Eventi per DIOCESI DI ROMA
BEGIN:VEVENT
DTSTART;TZID=Europe/Rome:20251124T183000
DTEND;TZID=Europe/Rome:20251124T183000
DTSTAMP:20260423T182458
CREATED:20251119T145646Z
LAST-MODIFIED:20251119T145646Z
UID:38677-1764009000-1764009000@www.diocesidiroma.it
SUMMARY:Presentazione del libro su don Luigi Di Liegro presso la parrocchia dei Santi XII Apostoli
DESCRIPTION:Presentazione del libro su don Luigi Di Liegro presso la parrocchia dei Santi XII Apostoli \n
URL:https://www.diocesidiroma.it/event/presentazione-del-libro-su-don-luigi-di-liegro-presso-la-parrocchia-dei-santi-xii-apostoli/
CATEGORIES:Vicario Generale
END:VEVENT
END:VCALENDAR