BEGIN:VCALENDAR
VERSION:2.0
PRODID:-//DIOCESI DI ROMA - ECPv4.6.14.1//NONSGML v1.0//EN
CALSCALE:GREGORIAN
METHOD:PUBLISH
X-WR-CALNAME:DIOCESI DI ROMA
X-ORIGINAL-URL:https://www.diocesidiroma.it
X-WR-CALDESC:Eventi per DIOCESI DI ROMA
BEGIN:VEVENT
DTSTART;VALUE=DATE:20171111
DTEND;VALUE=DATE:20171112
DTSTAMP:20260424T205902
CREATED:20171228T114844Z
LAST-MODIFIED:20171228T114844Z
UID:406-1510358400-1510444799@www.diocesidiroma.it
SUMMARY:Presentazione del Programma pastorale e del Rapporto sulle povertà
DESCRIPTION:
URL:https://www.diocesidiroma.it/event/presentazione-del-programma-pastorale-e-del-rapporto-sulle-poverta/
CATEGORIES:Caritas
END:VEVENT
END:VCALENDAR