BEGIN:VCALENDAR
VERSION:2.0
PRODID:-//DIOCESI DI ROMA - ECPv4.6.14.1//NONSGML v1.0//EN
CALSCALE:GREGORIAN
METHOD:PUBLISH
X-WR-CALNAME:DIOCESI DI ROMA
X-ORIGINAL-URL:https://www.diocesidiroma.it
X-WR-CALDESC:Eventi per DIOCESI DI ROMA
BEGIN:VEVENT
DTSTART;TZID=Europe/Rome:20221027T180000
DTEND;TZID=Europe/Rome:20221027T180000
DTSTAMP:20260425T160411
CREATED:20221013T112321Z
LAST-MODIFIED:20221013T112321Z
UID:23357-1666893600-1666893600@www.diocesidiroma.it
SUMMARY:Presentazione del programma pastorale - online (Caritas)
DESCRIPTION:Presentazione del programma pastorale – online (Caritas) \n
URL:https://www.diocesidiroma.it/event/presentazione-del-programma-pastorale-online-caritas/
CATEGORIES:In Diocesi,Iniziative degli Uffici
END:VEVENT
END:VCALENDAR