BEGIN:VCALENDAR
VERSION:2.0
PRODID:-//DIOCESI DI ROMA - ECPv4.6.14.1//NONSGML v1.0//EN
CALSCALE:GREGORIAN
METHOD:PUBLISH
X-WR-CALNAME:DIOCESI DI ROMA
X-ORIGINAL-URL:https://www.diocesidiroma.it
X-WR-CALDESC:Eventi per DIOCESI DI ROMA
BEGIN:VEVENT
DTSTART;TZID=Europe/Rome:20250408T103000
DTEND;TZID=Europe/Rome:20250408T113000
DTSTAMP:20260424T020438
CREATED:20250404T093426Z
LAST-MODIFIED:20250404T093426Z
UID:34964-1744108200-1744111800@www.diocesidiroma.it
SUMMARY:Presentazione del Rapporto annuale 2025 del Centro Astalli presso la Curia Generalizia della Compagnia di Gesù
DESCRIPTION:Presentazione del Rapporto annuale 2025 del Centro Astalli presso la Curia Generalizia della Compagnia di Gesù \n
URL:https://www.diocesidiroma.it/event/presentazione-del-rapporto-annuale-2025-del-centro-astalli-presso-la-curia-generalizia-della-compagnia-di-gesu/
CATEGORIES:Vicario Generale
END:VEVENT
END:VCALENDAR