BEGIN:VCALENDAR
VERSION:2.0
PRODID:-//DIOCESI DI ROMA - ECPv4.6.14.1//NONSGML v1.0//EN
CALSCALE:GREGORIAN
METHOD:PUBLISH
X-WR-CALNAME:DIOCESI DI ROMA
X-ORIGINAL-URL:https://www.diocesidiroma.it
X-WR-CALDESC:Eventi per DIOCESI DI ROMA
BEGIN:VEVENT
DTSTART;TZID=Europe/Rome:20231113T000000
DTEND;TZID=Europe/Rome:20231113T000000
DTSTAMP:20260421T060817
CREATED:20231011T071006Z
LAST-MODIFIED:20231011T071006Z
UID:27619-1699833600-1699833600@www.diocesidiroma.it
SUMMARY:Presentazione del Rapporto Povertà alla Cittadella della Carità (Caritas)
DESCRIPTION:Presentazione del Rapporto Povertà alla Cittadella della Carità (Caritas) \n
URL:https://www.diocesidiroma.it/event/presentazione-del-rapporto-poverta-alla-cittadella-della-carita-caritas/
CATEGORIES:In Diocesi,Iniziative degli Uffici
END:VEVENT
END:VCALENDAR