BEGIN:VCALENDAR
VERSION:2.0
PRODID:-//DIOCESI DI ROMA - ECPv4.6.14.1//NONSGML v1.0//EN
CALSCALE:GREGORIAN
METHOD:PUBLISH
X-WR-CALNAME:DIOCESI DI ROMA
X-ORIGINAL-URL:https://www.diocesidiroma.it
X-WR-CALDESC:Eventi per DIOCESI DI ROMA
BEGIN:VEVENT
DTSTART;TZID=Europe/Rome:20251112T120000
DTEND;TZID=Europe/Rome:20251112T120000
DTSTAMP:20260423T142107
CREATED:20251107T110754Z
LAST-MODIFIED:20251107T110801Z
UID:38449-1762948800-1762948800@www.diocesidiroma.it
SUMMARY:Presentazione del Rapporto Povertà della Caritas diocesana
DESCRIPTION:Presentazione del Rapporto Povertà della Caritas diocesana \n
URL:https://www.diocesidiroma.it/event/presentazione-del-rapporto-poverta-della-caritas-diocesana/
CATEGORIES:Vicario Generale
END:VEVENT
END:VCALENDAR