BEGIN:VCALENDAR
VERSION:2.0
PRODID:-//DIOCESI DI ROMA - ECPv4.6.14.1//NONSGML v1.0//EN
CALSCALE:GREGORIAN
METHOD:PUBLISH
X-WR-CALNAME:DIOCESI DI ROMA
X-ORIGINAL-URL:https://www.diocesidiroma.it
X-WR-CALDESC:Eventi per DIOCESI DI ROMA
BEGIN:VEVENT
DTSTART;TZID=Europe/Rome:20181117T000000
DTEND;TZID=Europe/Rome:20181117T000000
DTSTAMP:20260423T102921
CREATED:20180913T075240Z
LAST-MODIFIED:20180913T075240Z
UID:4511-1542412800-1542412800@www.diocesidiroma.it
SUMMARY:Presentazione del Rapporto sulle povertà
DESCRIPTION:Presentazione del Rapporto sulle povertà a cura della Caritas di Roma. \n
URL:https://www.diocesidiroma.it/event/presentazione-del-rapporto-sulle-poverta/
CATEGORIES:Caritas
END:VEVENT
END:VCALENDAR