BEGIN:VCALENDAR
VERSION:2.0
PRODID:-//DIOCESI DI ROMA - ECPv4.6.14.1//NONSGML v1.0//EN
CALSCALE:GREGORIAN
METHOD:PUBLISH
X-WR-CALNAME:DIOCESI DI ROMA
X-ORIGINAL-URL:https://www.diocesidiroma.it
X-WR-CALDESC:Eventi per DIOCESI DI ROMA
BEGIN:VEVENT
DTSTART;VALUE=DATE:20260202
DTEND;VALUE=DATE:20260203
DTSTAMP:20260420T225222
CREATED:20250912T082849Z
LAST-MODIFIED:20250912T082849Z
UID:37165-1769990400-1770076799@www.diocesidiroma.it
SUMMARY:PRESENTAZIONE DEL SIGNORE
DESCRIPTION:PRESENTAZIONE DEL SIGNORE \n
URL:https://www.diocesidiroma.it/event/presentazione-del-signore-2/
CATEGORIES:Ricorrenze
END:VEVENT
END:VCALENDAR