BEGIN:VCALENDAR
VERSION:2.0
PRODID:-//DIOCESI DI ROMA - ECPv4.6.14.1//NONSGML v1.0//EN
CALSCALE:GREGORIAN
METHOD:PUBLISH
X-WR-CALNAME:DIOCESI DI ROMA
X-ORIGINAL-URL:https://www.diocesidiroma.it
X-WR-CALDESC:Eventi per DIOCESI DI ROMA
BEGIN:VEVENT
DTSTART;TZID=Europe/Rome:20190202T000000
DTEND;TZID=Europe/Rome:20190202T000000
DTSTAMP:20260424T163210
CREATED:20181010T065421Z
LAST-MODIFIED:20181010T065421Z
UID:4930-1549065600-1549065600@www.diocesidiroma.it
SUMMARY:Presentazione del Signore. Veglia di preghiera in occasione della Giornata per la vita
DESCRIPTION:Presentazione del Signore. Veglia di preghiera in occasione della Giornata per la vita\, presso Santa Maria Madre del Redentore. \n
URL:https://www.diocesidiroma.it/event/presentazione-del-signore-veglia-di-preghiera-in-occasione-della-giornata-per-la-vita/
CATEGORIES:In Diocesi
END:VEVENT
END:VCALENDAR