BEGIN:VCALENDAR
VERSION:2.0
PRODID:-//DIOCESI DI ROMA - ECPv4.6.14.1//NONSGML v1.0//EN
CALSCALE:GREGORIAN
METHOD:PUBLISH
X-WR-CALNAME:DIOCESI DI ROMA
X-ORIGINAL-URL:https://www.diocesidiroma.it
X-WR-CALDESC:Eventi per DIOCESI DI ROMA
BEGIN:VEVENT
DTSTART;VALUE=DATE:20251112
DTEND;VALUE=DATE:20251113
DTSTAMP:20260423T181730
CREATED:20250910T115733Z
LAST-MODIFIED:20250910T115733Z
UID:36970-1762905600-1762991999@www.diocesidiroma.it
SUMMARY:Presentazione rapporto povertà Caritas Roma
DESCRIPTION:Presentazione rapporto povertà Caritas Roma \n
URL:https://www.diocesidiroma.it/event/presentazione-rapporto-poverta-caritas-roma/
CATEGORIES:In Diocesi,Iniziative degli Uffici
END:VEVENT
END:VCALENDAR