BEGIN:VCALENDAR
VERSION:2.0
PRODID:-//DIOCESI DI ROMA - ECPv4.6.14.1//NONSGML v1.0//EN
CALSCALE:GREGORIAN
METHOD:PUBLISH
X-WR-CALNAME:DIOCESI DI ROMA
X-ORIGINAL-URL:https://www.diocesidiroma.it
X-WR-CALDESC:Eventi per DIOCESI DI ROMA
BEGIN:VEVENT
DTSTART;TZID=Europe/Rome:20220701T000000
DTEND;TZID=Europe/Rome:20220708T000000
DTSTAMP:20260425T155941
CREATED:20220624T100345Z
LAST-MODIFIED:20220624T100445Z
UID:21831-1656633600-1657238400@www.diocesidiroma.it
SUMMARY:Presiede il Pellegrinaggio in Terra Santa dei seminaristi romani del Pontificio Seminario Romano Maggiore
DESCRIPTION:Presiede il Pellegrinaggio in Terra Santa dei seminaristi romani del Pontificio Seminario Romano Maggiore. \n
URL:https://www.diocesidiroma.it/event/preside-il-pellegrinaggio-in-terra-santa-dei-seminaristi-romani-del-pontificio-seminario-romano-maggiore/
CATEGORIES:NON USARE --- Agenda del Vicario
END:VEVENT
END:VCALENDAR