BEGIN:VCALENDAR
VERSION:2.0
PRODID:-//DIOCESI DI ROMA - ECPv4.6.14.1//NONSGML v1.0//EN
CALSCALE:GREGORIAN
METHOD:PUBLISH
X-WR-CALNAME:DIOCESI DI ROMA
X-ORIGINAL-URL:https://www.diocesidiroma.it
X-WR-CALDESC:Eventi per DIOCESI DI ROMA
BEGIN:VEVENT
DTSTART;TZID=Europe/Rome:20220606T093000
DTEND;TZID=Europe/Rome:20220606T093000
DTSTAMP:20260425T140813
CREATED:20220606T065252Z
LAST-MODIFIED:20220606T065252Z
UID:21597-1654507800-1654507800@www.diocesidiroma.it
SUMMARY:Presiede i lavori della Conferenza Episcopale Laziale
DESCRIPTION:Alle ore 9.30 a Villa Campitelli a Frascati presiede i lavori della Conferenza Episcopale Laziale. \n
URL:https://www.diocesidiroma.it/event/presiede-i-lavori-della-conferenza-episcopale-laziale-2/
CATEGORIES:NON USARE --- Agenda del Vicario
END:VEVENT
END:VCALENDAR