BEGIN:VCALENDAR
VERSION:2.0
PRODID:-//DIOCESI DI ROMA - ECPv4.6.14.1//NONSGML v1.0//EN
CALSCALE:GREGORIAN
METHOD:PUBLISH
X-WR-CALNAME:DIOCESI DI ROMA
X-ORIGINAL-URL:https://www.diocesidiroma.it
X-WR-CALDESC:Eventi per DIOCESI DI ROMA
BEGIN:VEVENT
DTSTART;TZID=Europe/Rome:20210315T093000
DTEND;TZID=Europe/Rome:20210315T093000
DTSTAMP:20260421T025041
CREATED:20210312T122048Z
LAST-MODIFIED:20210312T122048Z
UID:14290-1615800600-1615800600@www.diocesidiroma.it
SUMMARY:Presiede i lavori della Conferenza Episcopale Laziale
DESCRIPTION:Presiede i lavori della Conferenza Episcopale Laziale. \n
URL:https://www.diocesidiroma.it/event/presiede-i-lavori-della-conferenza-episcopale-laziale/
CATEGORIES:NON USARE --- Agenda del Vicario
END:VEVENT
END:VCALENDAR