BEGIN:VCALENDAR
VERSION:2.0
PRODID:-//DIOCESI DI ROMA - ECPv4.6.14.1//NONSGML v1.0//EN
CALSCALE:GREGORIAN
METHOD:PUBLISH
X-WR-CALNAME:DIOCESI DI ROMA
X-ORIGINAL-URL:https://www.diocesidiroma.it
X-WR-CALDESC:Eventi per DIOCESI DI ROMA
BEGIN:VEVENT
DTSTART;TZID=Europe/Rome:20251024T140000
DTEND;TZID=Europe/Rome:20251024T160000
DTSTAMP:20260421T022821
CREATED:20251017T100056Z
LAST-MODIFIED:20251017T100056Z
UID:37974-1761314400-1761321600@www.diocesidiroma.it
SUMMARY:Presiede il Consiglio d’Istituto dell’Ecclesia Mater
DESCRIPTION:Presiede il Consiglio d’Istituto dell’Ecclesia Mater \n
URL:https://www.diocesidiroma.it/event/presiede-il-consiglio-distituto-dellecclesia-mater/
CATEGORIES:Vicario Generale
END:VEVENT
END:VCALENDAR