BEGIN:VCALENDAR
VERSION:2.0
PRODID:-//DIOCESI DI ROMA - ECPv4.6.14.1//NONSGML v1.0//EN
CALSCALE:GREGORIAN
METHOD:PUBLISH
X-WR-CALNAME:DIOCESI DI ROMA
X-ORIGINAL-URL:https://www.diocesidiroma.it
X-WR-CALDESC:Eventi per DIOCESI DI ROMA
BEGIN:VEVENT
DTSTART;TZID=Europe/Rome:20241028T000000
DTEND;TZID=Europe/Rome:20241028T000000
DTSTAMP:20260421T181637
CREATED:20241025T070147Z
LAST-MODIFIED:20241030T082304Z
UID:31505-1730073600-1730073600@www.diocesidiroma.it
SUMMARY:Presiede il Consiglio episcopale
DESCRIPTION:Presiede il Consiglio episcopale \n
URL:https://www.diocesidiroma.it/event/presiede-il-consiglio-episcopale/
CATEGORIES:Vicario Generale
END:VEVENT
END:VCALENDAR