BEGIN:VCALENDAR
VERSION:2.0
PRODID:-//DIOCESI DI ROMA - ECPv4.6.14.1//NONSGML v1.0//EN
CALSCALE:GREGORIAN
METHOD:PUBLISH
X-WR-CALNAME:DIOCESI DI ROMA
X-ORIGINAL-URL:https://www.diocesidiroma.it
X-WR-CALDESC:Eventi per DIOCESI DI ROMA
BEGIN:VEVENT
DTSTART;TZID=Europe/Rome:20190429T000000
DTEND;TZID=Europe/Rome:20190504T000000
DTSTAMP:20260424T102719
CREATED:20190426T071235Z
LAST-MODIFIED:20190426T071235Z
UID:7422-1556496000-1556928000@www.diocesidiroma.it
SUMMARY:Presiede il pellegrinaggio del clero di Roma in Russia
DESCRIPTION:Presiede il pellegrinaggio del clero di Roma in Russia.  \n
URL:https://www.diocesidiroma.it/event/presiede-il-pellegrinaggio-del-clero-di-roma-in-russia/
CATEGORIES:NON USARE --- Agenda del Vicario
END:VEVENT
END:VCALENDAR