BEGIN:VCALENDAR
VERSION:2.0
PRODID:-//DIOCESI DI ROMA - ECPv4.6.14.1//NONSGML v1.0//EN
CALSCALE:GREGORIAN
METHOD:PUBLISH
X-WR-CALNAME:DIOCESI DI ROMA
X-ORIGINAL-URL:https://www.diocesidiroma.it
X-WR-CALDESC:Eventi per DIOCESI DI ROMA
BEGIN:VEVENT
DTSTART;VALUE=DATE:20251103
DTEND;VALUE=DATE:20251108
DTSTAMP:20260423T212230
CREATED:20251031T094721Z
LAST-MODIFIED:20251031T094721Z
UID:38326-1762128000-1762559999@www.diocesidiroma.it
SUMMARY:Presiede il Pellegrinaggio Diocesano in Turchia\, in occasione dei 1700 anni dalla celebrazione del primo concilio di Nicea
DESCRIPTION:Presiede il Pellegrinaggio Diocesano in Turchia\, in occasione dei 1700 anni dalla celebrazione del primo concilio di Nicea \n
URL:https://www.diocesidiroma.it/event/presiede-il-pellegrinaggio-diocesano-in-turchia-in-occasione-dei-1700-anni-dalla-celebrazione-del-primo-concilio-di-nicea/
CATEGORIES:Vicario Generale
END:VEVENT
END:VCALENDAR