BEGIN:VCALENDAR
VERSION:2.0
PRODID:-//DIOCESI DI ROMA - ECPv4.6.14.1//NONSGML v1.0//EN
CALSCALE:GREGORIAN
METHOD:PUBLISH
X-WR-CALNAME:DIOCESI DI ROMA
X-ORIGINAL-URL:https://www.diocesidiroma.it
X-WR-CALDESC:Eventi per DIOCESI DI ROMA
BEGIN:VEVENT
DTSTART;TZID=Europe/Rome:20230411T000000
DTEND;TZID=Europe/Rome:20230415T000000
DTSTAMP:20260424T163220
CREATED:20230405T075404Z
LAST-MODIFIED:20230405T075404Z
UID:25964-1681171200-1681516800@www.diocesidiroma.it
SUMMARY:Presiede il pellegrinaggio in Albania con un gruppo di sacerdoti e laici della diocesi
DESCRIPTION:Presiede il pellegrinaggio in Albania con un gruppo di sacerdoti e laici della diocesi. \n
URL:https://www.diocesidiroma.it/event/presiede-il-pellegrinaggio-in-albania-con-un-gruppo-di-sacerdoti-e-laici-della-diocesi/
CATEGORIES:NON USARE --- Agenda del Vicario
END:VEVENT
END:VCALENDAR