BEGIN:VCALENDAR
VERSION:2.0
PRODID:-//DIOCESI DI ROMA - ECPv4.6.14.1//NONSGML v1.0//EN
CALSCALE:GREGORIAN
METHOD:PUBLISH
X-WR-CALNAME:DIOCESI DI ROMA
X-ORIGINAL-URL:https://www.diocesidiroma.it
X-WR-CALDESC:Eventi per DIOCESI DI ROMA
BEGIN:VEVENT
DTSTART;TZID=Europe/Rome:20201026T170000
DTEND;TZID=Europe/Rome:20201026T170000
DTSTAMP:20260422T130944
CREATED:20201023T110920Z
LAST-MODIFIED:20201023T110920Z
UID:12218-1603731600-1603731600@www.diocesidiroma.it
SUMMARY:Presiede il rito di consacrazione della Cappella presso l’Istituto Teologico “Santa Maria del Perpetuo Soccorso”\, famiglia Don Orione
DESCRIPTION:Presiede il rito di consacrazione della Cappella presso l’Istituto Teologico “Santa Maria del Perpetuo Soccorso”\, famiglia Don Orione. \n
URL:https://www.diocesidiroma.it/event/presiede-il-rito-di-consacrazione-della-cappella-presso-listituto-teologico-santa-maria-del-perpetuo-soccorso-famiglia-don-orione/
CATEGORIES:NON USARE --- Agenda del Vicario
END:VEVENT
END:VCALENDAR