BEGIN:VCALENDAR
VERSION:2.0
PRODID:-//DIOCESI DI ROMA - ECPv4.6.14.1//NONSGML v1.0//EN
CALSCALE:GREGORIAN
METHOD:PUBLISH
X-WR-CALNAME:DIOCESI DI ROMA
X-ORIGINAL-URL:https://www.diocesidiroma.it
X-WR-CALDESC:Eventi per DIOCESI DI ROMA
BEGIN:VEVENT
DTSTART;TZID=Europe/Rome:20240306T190000
DTEND;TZID=Europe/Rome:20240306T190000
DTSTAMP:20260420T220746
CREATED:20240301T112156Z
LAST-MODIFIED:20240301T112220Z
UID:29061-1709751600-1709751600@www.diocesidiroma.it
SUMMARY:Presiede il terzo incontro quaresimale su "Le avventure di Pinocchio" a San Giovanni in Laterano
DESCRIPTION:Nella Basilica di San Giovanni in Laterano preside il terzo incontro quaresimale su Le avventure di Pinocchio – Ovvero il dramma della libertà. \n
URL:https://www.diocesidiroma.it/event/presiede-il-terzo-incontro-quaresimale-su-le-avventure-di-pinocchio-a-san-giovanni-in-laterano/
CATEGORIES:NON USARE --- Agenda del Vicario
END:VEVENT
END:VCALENDAR