BEGIN:VCALENDAR
VERSION:2.0
PRODID:-//DIOCESI DI ROMA - ECPv4.6.14.1//NONSGML v1.0//EN
CALSCALE:GREGORIAN
METHOD:PUBLISH
X-WR-CALNAME:DIOCESI DI ROMA
X-ORIGINAL-URL:https://www.diocesidiroma.it
X-WR-CALDESC:Eventi per DIOCESI DI ROMA
BEGIN:VEVENT
DTSTART;VALUE=DATE:20250916
DTEND;VALUE=DATE:20250917
DTSTAMP:20260423T215628
CREATED:20250912T094517Z
LAST-MODIFIED:20250912T094517Z
UID:37188-1757980800-1758067199@www.diocesidiroma.it
SUMMARY:Presiede la Conferenza episcopale laziale
DESCRIPTION:Presiede la Conferenza episcopale laziale \n
URL:https://www.diocesidiroma.it/event/presiede-la-conferenza-episcopale-laziale/
CATEGORIES:Vicario Generale
END:VEVENT
END:VCALENDAR