BEGIN:VCALENDAR
VERSION:2.0
PRODID:-//DIOCESI DI ROMA - ECPv4.6.14.1//NONSGML v1.0//EN
CALSCALE:GREGORIAN
METHOD:PUBLISH
X-WR-CALNAME:DIOCESI DI ROMA
X-ORIGINAL-URL:https://www.diocesidiroma.it
X-WR-CALDESC:Eventi per DIOCESI DI ROMA
BEGIN:VEVENT
DTSTART;TZID=Europe/Rome:20190321T180000
DTEND;TZID=Europe/Rome:20190321T180000
DTSTAMP:20260423T201615
CREATED:20190315T115936Z
LAST-MODIFIED:20190315T115936Z
UID:7097-1553191200-1553191200@www.diocesidiroma.it
SUMMARY:Presiede la marcia e la veglia di preghiera “Carità fino al Martirio” nella basilica di San Bartolomeo all’Isola Tiberina in memoria dei martiri missionari dei nostri tempi
DESCRIPTION:Presiede la marcia e la veglia di preghiera “Carità fino al Martirio” nella basilica di San Bartolomeo all’Isola Tiberina in memoria dei martiri missionari dei nostri tempi \n
URL:https://www.diocesidiroma.it/event/presiede-la-marcia-e-la-veglia-di-preghiera-carita-fino-al-martirio-nella-basilica-di-san-bartolomeo-allisola-tiberina-in-memoria-dei-martiri-missionari-dei-nostri-tempi/
CATEGORIES:NON USARE --- Agenda del Vicario
END:VEVENT
END:VCALENDAR