BEGIN:VCALENDAR
VERSION:2.0
PRODID:-//DIOCESI DI ROMA - ECPv4.6.14.1//NONSGML v1.0//EN
CALSCALE:GREGORIAN
METHOD:PUBLISH
X-WR-CALNAME:DIOCESI DI ROMA
X-ORIGINAL-URL:https://www.diocesidiroma.it
X-WR-CALDESC:Eventi per DIOCESI DI ROMA
BEGIN:VEVENT
DTSTART;TZID=Europe/Rome:20241124T120000
DTEND;TZID=Europe/Rome:20241124T120000
DTSTAMP:20260424T194002
CREATED:20241115T171415Z
LAST-MODIFIED:20241115T171415Z
UID:31982-1732449600-1732449600@www.diocesidiroma.it
SUMMARY:Presiede la Messa a San Crisogono per l’inizio del servizio pastorale del nuovo parroco
DESCRIPTION:Presiede la Messa a San Crisogono per l’inizio del servizio pastorale del nuovo parroco \n
URL:https://www.diocesidiroma.it/event/presiede-la-messa-a-san-crisogono-per-linizio-del-servizio-pastorale-del-nuovo-parroco/
CATEGORIES:Vicario Generale
END:VEVENT
END:VCALENDAR