BEGIN:VCALENDAR
VERSION:2.0
PRODID:-//DIOCESI DI ROMA - ECPv4.6.14.1//NONSGML v1.0//EN
CALSCALE:GREGORIAN
METHOD:PUBLISH
X-WR-CALNAME:DIOCESI DI ROMA
X-ORIGINAL-URL:https://www.diocesidiroma.it
X-WR-CALDESC:Eventi per DIOCESI DI ROMA
BEGIN:VEVENT
DTSTART;TZID=Europe/Rome:20251031T210000
DTEND;TZID=Europe/Rome:20251031T210000
DTSTAMP:20260423T223119
CREATED:20251024T103222Z
LAST-MODIFIED:20251024T103222Z
UID:38201-1761944400-1761944400@www.diocesidiroma.it
SUMMARY:Presiede la preghiera del Rosario presso la Basilica Papale di Santa Maria Maggiore
DESCRIPTION:Presiede la preghiera del Rosario presso la Basilica Papale di Santa Maria Maggiore \n
URL:https://www.diocesidiroma.it/event/presiede-la-preghiera-del-rosario-presso-la-basilica-papale-di-santa-maria-maggiore/
CATEGORIES:Vicario Generale
END:VEVENT
END:VCALENDAR