BEGIN:VCALENDAR
VERSION:2.0
PRODID:-//DIOCESI DI ROMA - ECPv4.6.14.1//NONSGML v1.0//EN
CALSCALE:GREGORIAN
METHOD:PUBLISH
X-WR-CALNAME:DIOCESI DI ROMA
X-ORIGINAL-URL:https://www.diocesidiroma.it
X-WR-CALDESC:Eventi per DIOCESI DI ROMA
BEGIN:VEVENT
DTSTART;TZID=Europe/Rome:20260216T190000
DTEND;TZID=Europe/Rome:20260216T190000
DTSTAMP:20260422T090118
CREATED:20260213T080701Z
LAST-MODIFIED:20260213T080714Z
UID:39912-1771268400-1771268400@www.diocesidiroma.it
SUMMARY:Presiede la prima seduta del nuovo Consiglio Pastorale diocesano
DESCRIPTION:Presiede la prima seduta del nuovo Consiglio Pastorale diocesano \n
URL:https://www.diocesidiroma.it/event/presiede-la-prima-seduta-del-nuovo-consiglio-pastorale-diocesano/
CATEGORIES:Vicario Generale
END:VEVENT
END:VCALENDAR